BEGIN:VCALENDAR
VERSION:2.0
PRODID:icalendar-ruby
CALSCALE:GREGORIAN
METHOD:PUBLISH
BEGIN:VEVENT
DTSTAMP:20260423T030623Z
UID:178-200090@eastplainsunitedchurch.com
DTSTART:20260509T140000Z
DTEND:20260509T200000Z
CLASS:PUBLIC
CREATED:20260422T155025
DESCRIPTION:Lots of beautiful plants and orchids to choose from. 10 vendors
  will be attending including the Orchids Society of the RBG.
LAST-MODIFIED:20260422T155025
LOCATION:East Plains United Church.
SUMMARY:Burlington Bloom Bazaar Mother's Day Plant Sale
URL;VALUE=URI:https://eastplainsunitedchurch.com/events/burlington-bloom-ba
 zaar-mothers-day-plant-sale/2026-05-09
ATTACH;FILENAME=MemorialGardenpurple-hydrangea-July-2024.jpg;FMTTYPE=image/
 jpeg:https://dq5pwpg1q8ru0.cloudfront.net/2026/04/21/21/59/35/c4367200-277
 8-459b-b5dc-1319c5a8ce19/MemorialGardenpurple-hydrangea-July-2024.jpg
END:VEVENT
END:VCALENDAR
